BEGIN:VCALENDAR
VERSION:2.0
PRODID:www.thepadrehotel.com
X-WR-CALNAME:Calendar Of Events
X-WR-CALDESC:Lists the events
X-WR-TIMEZONE:America/Los_Angeles
BEGIN:VTIMEZONE
TZID:America/Los_Angeles
X-LIC-LOCATION:America/Los_Angeles
END:VTIMEZONE
BEGIN:VEVENT
UID:69e82bf0702f1
DTSTART;VALUE=DATE:20260217
SEQUENCE:0
TRANSP:OPAQUE
URL:https://www.thepadrehotel.com/calender/taco-tuesday
SUMMARY:Taco Tuesday
CLASS:PUBLIC
DESCRIPTION:Taco Tuesday\n\nTacos on a Tuesday
RRULE:FREQ=WEEKLY;INTERVAL=1;BYDAY=TU
X-MICROSOFT-CDO-ALLDAYEVENT:TRUE
DTSTAMP:20260422T020120Z
END:VEVENT
BEGIN:VEVENT
UID:69e82bf0710fb
DTSTART;VALUE=DATE:20260403
SEQUENCE:0
TRANSP:OPAQUE
URL:https://www.thepadrehotel.com/calender/live-local25
SUMMARY:Live & Local
CLASS:PUBLIC
DESCRIPTION:Live & Local\n\nApril Line Up
RRULE:FREQ=DAILY;INTERVAL=1;UNTIL=20260424T000000Z
X-MICROSOFT-CDO-ALLDAYEVENT:TRUE
CATEGORIES:Entertainment
DTSTAMP:20260422T020120Z
END:VEVENT
BEGIN:VEVENT
UID:69e82bf071608
DTSTART;VALUE=DATE:20260405
SEQUENCE:0
TRANSP:OPAQUE
URL:https://www.thepadrehotel.com/calender/easter
SUMMARY:Easter Dining
CLASS:PUBLIC
DESCRIPTION:Easter Dining\n\nHop in for a Classic Easter Celebration
RRULE:FREQ=DAILY;INTERVAL=1;UNTIL=20260405T000000Z
X-MICROSOFT-CDO-ALLDAYEVENT:TRUE
CATEGORIES:Holiday Events
DTSTAMP:20260422T020120Z
END:VEVENT
BEGIN:VEVENT
UID:69e82bf071b16
DTSTART;VALUE=DATE:20260411
SEQUENCE:0
TRANSP:OPAQUE
URL:https://www.thepadrehotel.com/calender/puppies-at-the-padre
SUMMARY:Puppies at the Padre
CLASS:PUBLIC
DESCRIPTION:Puppies at the Padre\n\nPuppies + Yoga
RRULE:FREQ=DAILY;INTERVAL=1;UNTIL=20260411T000000Z
X-MICROSOFT-CDO-ALLDAYEVENT:TRUE
DTSTAMP:20260422T020120Z
END:VEVENT
BEGIN:VEVENT
UID:69e82bf072024
DTSTART;VALUE=DATE:20260418
SEQUENCE:0
TRANSP:OPAQUE
URL:https://www.thepadrehotel.com/calender/taste-of-the-screen
SUMMARY:Taste of the Screen
CLASS:PUBLIC
DESCRIPTION:Taste of the Screen\n\nMovie & Dining Experience
RRULE:FREQ=DAILY;INTERVAL=1;UNTIL=20260418T000000Z
X-MICROSOFT-CDO-ALLDAYEVENT:TRUE
DTSTAMP:20260422T020120Z
END:VEVENT
BEGIN:VEVENT
UID:69e82bf072512
DTSTART;VALUE=DATE:20260501
SEQUENCE:0
TRANSP:OPAQUE
URL:https://www.thepadrehotel.com/calender/live-local
SUMMARY:Live & Local
CLASS:PUBLIC
DESCRIPTION:Live & Local\n\nMay Line Up
RRULE:FREQ=DAILY;INTERVAL=1;UNTIL=20260529T000000Z
X-MICROSOFT-CDO-ALLDAYEVENT:TRUE
CATEGORIES:Entertainment
DTSTAMP:20260422T020120Z
END:VEVENT
BEGIN:VEVENT
UID:69e82bf072a1f
DTSTART;VALUE=DATE:20260503
SEQUENCE:0
TRANSP:OPAQUE
URL:https://www.thepadrehotel.com/calender/skyline-ballerina-sculpt-rooftop
 -pilates
SUMMARY:Skyline Ballerina Sculpt Rooftop Pilates
CLASS:PUBLIC
DESCRIPTION:Skyline Ballerina Sculpt Rooftop Pilates\n\n
RRULE:FREQ=DAILY;INTERVAL=1;UNTIL=20260503T000000Z
X-MICROSOFT-CDO-ALLDAYEVENT:TRUE
DTSTAMP:20260422T020120Z
END:VEVENT
BEGIN:VEVENT
UID:69e82bf072ed7
DTSTART;VALUE=DATE:20260505
SEQUENCE:0
TRANSP:OPAQUE
URL:https://www.thepadrehotel.com/calender/cinco-de-mayo
SUMMARY:Cinco De Mayo
CLASS:PUBLIC
DESCRIPTION:Cinco De Mayo\n\nFeliz Cinco de Mayo
RRULE:FREQ=DAILY;INTERVAL=1;UNTIL=20260505T000000Z
X-MICROSOFT-CDO-ALLDAYEVENT:TRUE
CATEGORIES:Holiday Events
DTSTAMP:20260422T020120Z
END:VEVENT
BEGIN:VEVENT
UID:69e82bf07339d
DTSTART;VALUE=DATE:20260510
SEQUENCE:0
TRANSP:OPAQUE
URL:https://www.thepadrehotel.com/calender/mothers-day
SUMMARY:Mother's Day
CLASS:PUBLIC
DESCRIPTION:Mother's Day\n\nSpecial Meal for Mom
RRULE:FREQ=DAILY;INTERVAL=1;UNTIL=20260510T000000Z
X-MICROSOFT-CDO-ALLDAYEVENT:TRUE
DTSTAMP:20260422T020120Z
END:VEVENT
END:VCALENDAR